BEGIN:VCALENDAR
VERSION:2.0
PRODID:-//TYPO3/NONSGML News system (news)//EN
BEGIN:VEVENT
UID:news-128332@postdoc.uni-graz.at
DTSTAMP:20250827T135653Z
DTSTART:20260610T080000Z
DTEND:20260610T093000Z
SUMMARY:Negotiating on your path to a professorship: Expert talk with Jana Lasser

DESCRIPTION:Join the discussion on June 10, 2026
END:VEVENT
END:VCALENDAR
