BEGIN:VCALENDAR
VERSION:2.0
PRODID:-//TYPO3/NONSGML News system (news)//EN
BEGIN:VEVENT
UID:news-100246@postdoc.uni-graz.at
DTSTAMP:20241223T073405Z
DTSTART:20231108T163000Z
DTEND:20231108T183000Z
SUMMARY:Fiasco Fest 2023

DESCRIPTION:How to joyfully move from rejection and failure to your best professional self
END:VEVENT
END:VCALENDAR
