BEGIN:VCALENDAR
VERSION:2.0
PRODID:-//TYPO3/NONSGML News system (news)//EN
BEGIN:VEVENT
UID:news-89762@postdoc.uni-graz.at
DTSTAMP:20241223T073405Z
DTSTART:20220921T170000Z
DTEND:20220921T190000Z
SUMMARY:PostDoc Social Evening

DESCRIPTION:Join a group of social postdocs for drinks and food!
END:VEVENT
END:VCALENDAR
