BEGIN:VCALENDAR
VERSION:2.0
PRODID:-//TYPO3/NONSGML News system (news)//EN
BEGIN:VEVENT
UID:news-89765@postdoc.uni-graz.at
DTSTAMP:20241223T073405Z
DTSTART:20221221T180000Z
DTEND:20221221T200000Z
SUMMARY:PostDoc Social Evening: Winter Edition

DESCRIPTION:Join a group of social postdocs for GLÜHWEIN!
END:VEVENT
END:VCALENDAR
