BEGIN:VCALENDAR
VERSION:2.0
PRODID:-//TYPO3/NONSGML News system (news)//EN
BEGIN:VEVENT
UID:news-104854@postdoc.uni-graz.at
DTSTAMP:20241223T073405Z
DTSTART:20240619T100000Z
DTEND:20240619T110000Z
SUMMARY:PostDoc Social Lunch

DESCRIPTION:The last meeting of the semester is a lunch date!
END:VEVENT
END:VCALENDAR
