BEGIN:VCALENDAR
VERSION:2.0
PRODID:-//TYPO3/NONSGML News system (news)//EN
BEGIN:VEVENT
UID:news-88913@postdoc.uni-graz.at
DTSTAMP:20241223T073405Z
DTSTART:20220922T063000Z
DTEND:20220924T183000Z
SUMMARY:PostDoc Writing Retreat in Murau

DESCRIPTION:September 22 to September 24, 2022 (Thu to Sat), fully booked, only waiting list!
END:VEVENT
END:VCALENDAR
